BEGIN:VCALENDAR
VERSION:2.0
PRODID:-//Plone.org//NONSGML plone.app.event//EN
X-WR-TIMEZONE:Europe/Vienna
BEGIN:VEVENT
SUMMARY:Creative Media Summer School 2026
DTSTART;TZID=Europe/Berlin:20260622T090000
DTEND;TZID=Europe/Berlin:20260626T100000
DTSTAMP:20260419T230156Z
UID:f5fd384e45554fda9649dbe54492127a@www.ustp.at
CREATED:20221111T115843Z
DESCRIPTION:Bei der Creative Media Summer School haben Studierende die Mö
 glichkeit\, ihre Fähigkeiten im Rahmen von Workshops und Diskussionen zu 
 erweitern
LAST-MODIFIED:20260305T121940Z
LOCATION:Campus St. Pölten & Online
URL:https://www.ustp.at/de/stories/events/creative-media-summer-school-202
 6
END:VEVENT
BEGIN:VTIMEZONE
TZID:Europe/Berlin
X-LIC-LOCATION:Europe/Berlin
BEGIN:DAYLIGHT
DTSTART:20260329T030000
TZNAME:CEST
TZOFFSETFROM:+0100
TZOFFSETTO:+0200
END:DAYLIGHT
END:VTIMEZONE
END:VCALENDAR
