BEGIN:VCALENDAR
VERSION:2.0
PRODID:-//Plone.org//NONSGML plone.app.event//EN
X-WR-TIMEZONE:Europe/Vienna
BEGIN:VEVENT
SUMMARY:#IMM2026 Future Tech Bootcamp
DTSTART;VALUE=DATE:20260504
DTEND;VALUE=DATE:20260508
DTSTAMP:20260419T220005Z
UID:8cbe9b82d9e241348293427bf4394b18@www.ustp.at
CREATED:20221111T115843Z
LAST-MODIFIED:20260306T062300Z
LOCATION:Hainburg\, Wien und online
URL:https://www.ustp.at/de/stories/events/future-tech-bootcamp
END:VEVENT
END:VCALENDAR
