BEGIN:VCALENDAR
VERSION:2.0
PRODID:-//Plone.org//NONSGML plone.app.event//EN
X-WR-TIMEZONE:Europe/Vienna
BEGIN:VEVENT
SUMMARY:Gemeinsam gut Wohnen in Niederösterreich
DTSTART;TZID=Europe/Berlin:20260806T140000
DTEND;TZID=Europe/Berlin:20260806T190000
DTSTAMP:20260419T230355Z
UID:c6c09593d4064f0e8287e31bbfd94c6e@www.ustp.at
CREATED:20260304T142713Z
DESCRIPTION:Inklusives und gemeinschaftliches Wohnen weiterdenken\, vernet
 zen und entwickeln. Abschlusskonferenz des Projekts „Gemeinsam gut leben
  im Schneebergland“
LAST-MODIFIED:20260318T091215Z
LOCATION:Kleiner Festsaal
URL:https://www.ustp.at/de/stories/events/gemeinsam-gut-wohnen-in-niederoe
 sterreich
END:VEVENT
BEGIN:VTIMEZONE
TZID:Europe/Berlin
X-LIC-LOCATION:Europe/Berlin
BEGIN:DAYLIGHT
DTSTART:20260329T030000
TZNAME:CEST
TZOFFSETFROM:+0100
TZOFFSETTO:+0200
END:DAYLIGHT
END:VTIMEZONE
END:VCALENDAR
