BEGIN:VCALENDAR
VERSION:2.0
PRODID:-//Plone.org//NONSGML plone.app.event//EN
X-WR-TIMEZONE:Europe/Vienna
BEGIN:VEVENT
SUMMARY:Campus Party
DTSTART;TZID=Europe/Vienna:20260623T150000
DTEND;TZID=Europe/Vienna:20260623T210000
DTSTAMP:20260422T140251Z
UID:158eea0ce9de4d6d8ac17d13834b4644@www.ustp.at
CREATED:20260417T071534Z
DESCRIPTION:Open summer party for everyone
LAST-MODIFIED:20260422T073730Z
LOCATION:Campus St. Pölten
URL:https://www.ustp.at/en/stories/events/campus-party
END:VEVENT
BEGIN:VTIMEZONE
TZID:Europe/Vienna
X-LIC-LOCATION:Europe/Vienna
BEGIN:DAYLIGHT
DTSTART:20260329T030000
TZNAME:CEST
TZOFFSETFROM:+0100
TZOFFSETTO:+0200
END:DAYLIGHT
END:VTIMEZONE
END:VCALENDAR
